BEGIN:VCALENDAR
VERSION:2.0
PRODID:-//Q2//App//EN
CALSCALE:GREGORIAN
METHOD:PUBLISH
BEGIN:VTIMEZONE
TZID:America/Toronto
BEGIN:STANDARD
DTSTART:20271107T010000
TZOFFSETFROM:-0400
TZOFFSETTO:-0500
TZNAME:EST
END:STANDARD
BEGIN:DAYLIGHT
DTSTART:20270314T030000
TZOFFSETFROM:-0500
TZOFFSETTO:-0400
TZNAME:EDT
END:DAYLIGHT
END:VTIMEZONE
BEGIN:VEVENT
UID:351@longevityperth.com
DTSTAMP:20260422T111100Z
DTSTART;TZID=America/Toronto:20250518T110000
DTEND;TZID=America/Toronto:20250518T150000
SUMMARY:Don’t Die: A Longevity Meetup Inspired by Bryan Johnson
STATUS:CONFIRMED
DESCRIPTION:Don’t Die: A Longevity Meetup Inspired by Bryan Johnson\nHost
 ed by Longevity Perth\nSunday\, 18 May | 11:00 AM | Flora & Fauna Cafe\, F
 remantle\n\nJoin us for a relaxed and inspiring gathering of like-minded i
 ndividuals passionate about health\, longevity\, and living better for lon
 ger. Hosted by Longevity Perth\, this meetup is inspired by Bryan Johnson'
 s “Don’t Die” philosophy—focused on optimizing sleep\, nutrition\,
  fitness\, and all things biohacking.\n\nWe’ll meet at Flora & Fauna Caf
 e in Fremantle for brunch\, great conversation\, and community connection.
  After the meal\, we’ll likely wander to the nearby grassed area to cont
 inue the discussion in a more casual setting. Bring your curiosity\, your 
 questions\, and your family—this is a family-friendly event!\n\nWhether 
 you're deep into data tracking and supplements or just starting to explore
  healthy aging\, you’ll be in good company.\n\n---\n\n📍 Flora & Fauna
  Café Location (https://www.google.com/maps/place/Flora+%26+Fauna/@-32.00
 68317\,115.6792549\,13z/data=!4m6!3m5!1s0x2a32a16550fe3467:0x38eb3345ee70e
 9b5!8m2!3d-32.053765!4d115.7465393!16s%2Fg%2F11wbg_13gq!5m1!1e2?entry=ttu&
 g_ep=EgoyMDI1MDUwNS4wIKXMDSoASAFQAw%3D%3D)\n💬 Join the WhatsApp Chat fo
 r Longevity Perth (https://chat.whatsapp.com/H4c48Xk5mPO155jcONjxs8)\n📲
  Follow Longevity Perth on Instagram (https://www.instagram.com/longevityp
 erth/)\n📘 Join us on Facebook (https://www.facebook.com/profile.php?id=
 61574588115003)\n📞 Contact Hali for more info: 0402 161 789
X-ALT-DESC;FMTTYPE=text/html:<!-- wp:paragraph -->\n<p>Don’t Die: A Longe
 vity Meetup Inspired by Bryan Johnson<br>Hosted by Longevity Perth<br>Sund
 ay\, 18 May | 11:00 AM | Flora &amp\; Fauna Cafe\, Fremantle</p>\n<!-- /wp
 :paragraph -->\n\n<!-- wp:paragraph -->\n<p>Join us for a relaxed and insp
 iring gathering of like-minded individuals passionate about health\, longe
 vity\, and living better for longer. Hosted by Longevity Perth\, this meet
 up is inspired by Bryan Johnson's “Don’t Die” philosophy—focused o
 n optimizing sleep\, nutrition\, fitness\, and all things biohacking.</p>\
 n<!-- /wp:paragraph -->\n\n<!-- wp:paragraph -->\n<p>We’ll meet at Flora
  &amp\; Fauna Cafe in Fremantle for brunch\, great conversation\, and comm
 unity connection. After the meal\, we’ll likely wander to the nearby gra
 ssed area to continue the discussion in a more casual setting. Bring your 
 curiosity\, your questions\, and your family—this is a family-friendly e
 vent!</p>\n<!-- /wp:paragraph -->\n\n<!-- wp:paragraph -->\n<p>Whether you
 're deep into data tracking and supplements or just starting to explore he
 althy aging\, you’ll be in good company.</p>\n<!-- /wp:paragraph -->\n\n
 <!-- wp:separator -->\n<hr class="wp-block-separator has-alpha-channel-opa
 city" />\n<!-- /wp:separator -->\n\n<!-- wp:paragraph -->\n<p>📍 <a href
 ="https://www.google.com/maps/place/Flora+%26+Fauna/@-32.0068317\,115.6792
 549\,13z/data=!4m6!3m5!1s0x2a32a16550fe3467:0x38eb3345ee70e9b5!8m2!3d-32.0
 53765!4d115.7465393!16s%2Fg%2F11wbg_13gq!5m1!1e2?entry=ttu&amp\;g_ep=EgoyM
 DI1MDUwNS4wIKXMDSoASAFQAw%3D%3D">Flora &amp\; Fauna Café Location</a><br>
 💬 <a href="https://chat.whatsapp.com/H4c48Xk5mPO155jcONjxs8">Join the W
 hatsApp Chat for Longevity Perth</a><br>📲 <a href="https://www.instagra
 m.com/longevityperth/">Follow Longevity Perth on Instagram</a><br>📘 <a 
 href="https://www.facebook.com/profile.php?id=61574588115003">Join us on F
 acebook</a><br>📞 Contact Hali for more info: 0402 161 789</p>\n<!-- /wp
 :paragraph -->\n\n<!-- wp:paragraph -->\n<p></p>\n<!-- /wp:paragraph -->
URL:https://www.longevityperth.com/events/dont-die-a-longevity-meetup-inspi
 red-by-bryan-johnson/
LAST-MODIFIED:20250612T174045Z
CREATED:20250508T112834Z
BEGIN:VALARM
TRIGGER:-PT1H
ACTION:DISPLAY
DESCRIPTION:Event reminder
END:VALARM
END:VEVENT
END:VCALENDAR
